BEGIN:VCALENDAR
VERSION:2.0
PRODID:-//Paint &amp; Pour - ECPv2.0.11//NONSGML v1.0//EN
CALSCALE:GREGORIAN
METHOD:PUBLISH
X-WR-CALNAME:Paint &amp; Pour
X-ORIGINAL-URL:https://thepaintandpour.com
X-WR-CALDESC:Events for Paint &amp; Pour
X-WR-TIMEZONE:America/Detroit
BEGIN:VEVENT
DTSTART;VALUE=DATE-TIME:20200109T190000
DTEND;VALUE=DATE-TIME:20200109T210000.000000
DTSTAMP:20260424T042208
CREATED:20191215T175612
LAST-MODIFIED:20191215T175612
UID:535585-1578596400-@https://thepaintandpour.com
SUMMARY:Happy Little Trees - Jan 9th 7-9 PM
DESCRIPTION:Happy Little Trees
LOCATION:5 S Washington St, Ypsilanti, MI, 48197, United States
URL:https://thepaintandpour.com/event/happy-little-trees-jan-9th-7-9-pm/
END:VEVENT
END:VCALENDAR