BEGIN:VCALENDAR
VERSION:2.0
PRODID:-//Paint &amp; Pour - ECPv2.0.11//NONSGML v1.0//EN
CALSCALE:GREGORIAN
METHOD:PUBLISH
X-WR-CALNAME:Paint &amp; Pour
X-ORIGINAL-URL:https://thepaintandpour.com
X-WR-CALDESC:Events for Paint &amp; Pour
X-WR-TIMEZONE:America/Detroit
BEGIN:VEVENT
DTSTART;VALUE=DATE-TIME:20190117T190000
DTEND;VALUE=DATE-TIME:20190117T210000.000000
DTSTAMP:20260423T235933
CREATED:20181110T201313
LAST-MODIFIED:20181110T201313
UID:411125-1547751600-@https://thepaintandpour.com
SUMMARY:Happy Little Trees - Jan 17th 7-9 PM
DESCRIPTION:&nbsp;  Happy Little Trees  &nbsp;
LOCATION:22000 Michigan Ave, Dearborn, MI, 48124, United States
URL:https://thepaintandpour.com/event/happy-little-trees-jan-17th-7-9-pm/
END:VEVENT
END:VCALENDAR