BEGIN:VCALENDAR
VERSION:2.0
PRODID:-//Paint &amp; Pour - ECPv2.0.11//NONSGML v1.0//EN
CALSCALE:GREGORIAN
METHOD:PUBLISH
X-WR-CALNAME:Paint &amp; Pour
X-ORIGINAL-URL:https://thepaintandpour.com
X-WR-CALDESC:Events for Paint &amp; Pour
X-WR-TIMEZONE:America/Detroit
BEGIN:VEVENT
DTSTART;VALUE=DATE-TIME:20180812T153000
DTEND;VALUE=DATE-TIME:20180812T173000.000000
DTSTAMP:20260419T144130
CREATED:20180808T172532
LAST-MODIFIED:20180808T172532
UID:397350-1534087800-@https://thepaintandpour.com
SUMMARY:Grandma's Day Out - Hold Me Close - Aug 12th 3:30-5:30 PM
DESCRIPTION:  Hold Me Close  Grandma's Day Out  PRIVATE PARTY  
LOCATION:111 South West St, Brighton, MI, 48116, United States
URL:https://thepaintandpour.com/event/grandmas-day-out-hold-me-close-aug-12th-330-530-pm/
END:VEVENT
END:VCALENDAR