BEGIN:VCALENDAR
VERSION:2.0
PRODID:-//Paint &amp; Pour - ECPv2.0.11//NONSGML v1.0//EN
CALSCALE:GREGORIAN
METHOD:PUBLISH
X-WR-CALNAME:Paint &amp; Pour
X-ORIGINAL-URL:https://thepaintandpour.com
X-WR-CALDESC:Events for Paint &amp; Pour
X-WR-TIMEZONE:America/Detroit
BEGIN:VEVENT
DTSTART;VALUE=DATE-TIME:20181110T190000
DTEND;VALUE=DATE-TIME:20181110T210000.000000
DTSTAMP:20260424T070341
CREATED:20180907T134719
LAST-MODIFIED:20181111T204207
UID:401359-1541876400-@https://thepaintandpour.com
SUMMARY:Goddess Power - Nov 10th 7-9 PM
DESCRIPTION:&nbsp;  Goddess Power  &nbsp;
LOCATION:22000 Michigan Ave, Dearborn, MI, 48124, United States
URL:https://thepaintandpour.com/event/goddess-power-nov-10th-7-9-pm/
END:VEVENT
END:VCALENDAR