BEGIN:VCALENDAR
VERSION:2.0
PRODID:-//Paint &amp; Pour - ECPv2.0.11//NONSGML v1.0//EN
CALSCALE:GREGORIAN
METHOD:PUBLISH
X-WR-CALNAME:Paint &amp; Pour
X-ORIGINAL-URL:https://thepaintandpour.com
X-WR-CALDESC:Events for Paint &amp; Pour
X-WR-TIMEZONE:America/Detroit
BEGIN:VEVENT
DTSTART;VALUE=DATE-TIME:20190822T190000
DTEND;VALUE=DATE-TIME:20190822T210000.000000
DTSTAMP:20260424T151858
CREATED:20190716T123502
LAST-MODIFIED:20190716T123502
UID:477929-1566500400-@https://thepaintandpour.com
SUMMARY:Goddess Power - Aug 22nd 7-9 PM
DESCRIPTION:Goddess Power
LOCATION:5 S Washington St, Ypsilanti, MI, 48197, United States
URL:https://thepaintandpour.com/event/goddess-power-aug-22nd-7-9-pm/
END:VEVENT
END:VCALENDAR