BEGIN:VCALENDAR
VERSION:2.0
PRODID:-//Paint &amp; Pour - ECPv2.0.11//NONSGML v1.0//EN
CALSCALE:GREGORIAN
METHOD:PUBLISH
X-WR-CALNAME:Paint &amp; Pour
X-ORIGINAL-URL:https://thepaintandpour.com
X-WR-CALDESC:Events for Paint &amp; Pour
X-WR-TIMEZONE:America/Detroit
BEGIN:VEVENT
DTSTART;VALUE=DATE-TIME:20180224T190000
DTEND;VALUE=DATE-TIME:20180224T210000.000000
DTSTAMP:20260423T144457
CREATED:20180108T165245
LAST-MODIFIED:20180115T171904
UID:375212-1519498800-@https://thepaintandpour.com
SUMMARY:Girls Night Out with Bea - Savannah Sunrise - Feb 24th 7-9 PM
DESCRIPTION:  Savannah Forest  Girls Night Out with Bea  PRIVATE PARTY  Western Wayne County Conservation Association  6700 Napier Rd.  Plymouth\, MI 48170  Are YOU interested in having a private party with us?  Paint and Pour offers an incredible new way to spice up your next event. Let our Entertainer/Instructors guide your guests through an evening of art and merriment\, and they’ll be sure to talk about it for weeks! Paint and Pour private parties are great for ANY event\, so don’t hesitate.  Call us at (734) 720-9777 or Contact Us today to schedule your Paint Party!
LOCATION:MI, United States
URL:https://thepaintandpour.com/event/girls-night-out-with-bea-savannah-sunrise-feb-24th-7-9-pm/
END:VEVENT
END:VCALENDAR