BEGIN:VCALENDAR
VERSION:2.0
PRODID:-//Paint &amp; Pour - ECPv2.0.11//NONSGML v1.0//EN
CALSCALE:GREGORIAN
METHOD:PUBLISH
X-WR-CALNAME:Paint &amp; Pour
X-ORIGINAL-URL:https://thepaintandpour.com
X-WR-CALDESC:Events for Paint &amp; Pour
X-WR-TIMEZONE:America/Detroit
BEGIN:VEVENT
DTSTART;VALUE=DATE-TIME:20180421T190000
DTEND;VALUE=DATE-TIME:20180421T210000.000000
DTSTAMP:20260423T110934
CREATED:20180414T214632
LAST-MODIFIED:20180414T221322
UID:388363-1524337200-@https://thepaintandpour.com
SUMMARY:Girls Night Out! - Crazy Daisies - Apr 21st 7-9 PM
DESCRIPTION:Crazy Daisies  Girls Night Out!  PRIVATE PARTY
LOCATION:5 S Washington St, Ypsilanti, MI, 48197, United States
URL:https://thepaintandpour.com/event/girls-night-out-crazy-daisies-apr-21st-7-9-pm/
END:VEVENT
END:VCALENDAR