BEGIN:VCALENDAR
VERSION:2.0
PRODID:-//Paint &amp; Pour - ECPv2.0.11//NONSGML v1.0//EN
CALSCALE:GREGORIAN
METHOD:PUBLISH
X-WR-CALNAME:Paint &amp; Pour
X-ORIGINAL-URL:https://thepaintandpour.com
X-WR-CALDESC:Events for Paint &amp; Pour
X-WR-TIMEZONE:America/Detroit
BEGIN:VEVENT
DTSTART;VALUE=DATE-TIME:20180302T170000
DTEND;VALUE=DATE-TIME:20180302T190000.000000
DTSTAMP:20260423T112030
CREATED:20180228T181335
LAST-MODIFIED:20180228T181503
UID:381059-1520010000-@https://thepaintandpour.com
SUMMARY:Girl Scout Troop 48050 - Mystic Trees - Mar 2nd 5-7 PM
DESCRIPTION:Mystic Trees  Girls Scout Troop 48050  PRIVATE PARTY  Are YOU interested in having a private party with us?  Paint and Pour offers an incredible new way to spice up your next event. Let our Entertainer/Instructors guide your guests through an evening of art and merriment and they’ll be sure to talk about it for weeks! Paint and Pour private parties are great for ANY event so don’t hesitate.  Call us at (734) 720-9777 or Contact Us today to schedule your Paint Party!
LOCATION:22000 Michigan Ave, Dearborn, MI, 48124, United States
URL:https://thepaintandpour.com/event/girl-scout-troop-48050-mystic-trees-mar-2nd-5-7-pm/
END:VEVENT
END:VCALENDAR