BEGIN:VCALENDAR
VERSION:2.0
PRODID:-//Paint &amp; Pour - ECPv2.0.11//NONSGML v1.0//EN
CALSCALE:GREGORIAN
METHOD:PUBLISH
X-WR-CALNAME:Paint &amp; Pour
X-ORIGINAL-URL:https://thepaintandpour.com
X-WR-CALDESC:Events for Paint &amp; Pour
X-WR-TIMEZONE:America/Detroit
BEGIN:VEVENT
DTSTART;VALUE=DATE-TIME:20180329T180000
DTEND;VALUE=DATE-TIME:20180329T210000.000000
DTSTAMP:20260423T142516
CREATED:20180302T195221
LAST-MODIFIED:20180305T123948
UID:381303-1522346400-@https://thepaintandpour.com
SUMMARY:Gateway Dental Care - Lindsay's Going Away Party - Apology Accepted - Mar 29th 6-9 PM
DESCRIPTION:  Apology Accepted  Gateway Dental Care - Lindsay's Going Away Party  PRIVATE PARTY  Are YOU interested in having a private party with us?  Paint and Pour offers an incredible new way to spice up your next event. Let our Entertainer/Instructors guide your guests through an evening of art and merriment\, and they’ll be sure to talk about it for weeks! Paint and Pour private parties are great for ANY event\, so don’t hesitate.  Call us at (734) 720-9777 or Contact Us today to schedule your Paint Party!
LOCATION:111 South West St, Brighton, MI, 48116, United States
URL:https://thepaintandpour.com/event/gateway-dental-care-lindsays-going-away-party-apology-accepted-mar-29th-6-9-pm/
END:VEVENT
END:VCALENDAR