BEGIN:VCALENDAR
VERSION:2.0
PRODID:-//Paint &amp; Pour - ECPv2.0.11//NONSGML v1.0//EN
CALSCALE:GREGORIAN
METHOD:PUBLISH
X-WR-CALNAME:Paint &amp; Pour
X-ORIGINAL-URL:https://thepaintandpour.com
X-WR-CALDESC:Events for Paint &amp; Pour
X-WR-TIMEZONE:America/Detroit
BEGIN:VEVENT
DTSTART;VALUE=DATE-TIME:20180902T180000
DTEND;VALUE=DATE-TIME:20180902T200000.000000
DTSTAMP:20260424T175705
CREATED:20180724T180326
LAST-MODIFIED:20180724T180507
UID:396272-1535911200-@https://thepaintandpour.com
SUMMARY:Footsteps in the Sand - Sep 2nd 6-8 PM
DESCRIPTION:&nbsp;  Footsteps in the Sand
LOCATION:22000 Michigan Ave, Dearborn, MI, 48124, United States
URL:https://thepaintandpour.com/event/footsteps-in-the-sand-sep-2nd-6-8-pm/
END:VEVENT
END:VCALENDAR