BEGIN:VCALENDAR
VERSION:2.0
PRODID:-//Paint &amp; Pour - ECPv2.0.11//NONSGML v1.0//EN
CALSCALE:GREGORIAN
METHOD:PUBLISH
X-WR-CALNAME:Paint &amp; Pour
X-ORIGINAL-URL:https://thepaintandpour.com
X-WR-CALDESC:Events for Paint &amp; Pour
X-WR-TIMEZONE:America/Detroit
BEGIN:VEVENT
DTSTART;VALUE=DATE-TIME:20191030T170000
DTEND;VALUE=DATE-TIME:20191030T190000.000000
DTSTAMP:20260424T030931
CREATED:20190909T124727
LAST-MODIFIED:20191015T225504
UID:534069-1572454800-@https://thepaintandpour.com
SUMMARY:Family Day: Scaredy Cat - Oct 30th 5-7 PM
DESCRIPTION:&nbsp;  Scaredy Cat  -Family Day-  Recommended Ages 7+  &nbsp;    &nbsp;
LOCATION:5 S Washington St, Ypsilanti, MI, 48197, United States
URL:https://thepaintandpour.com/event/family-day-scaredy-cat-oct-30th-5-7-pm/
END:VEVENT
END:VCALENDAR