BEGIN:VCALENDAR
VERSION:2.0
PRODID:-//Paint &amp; Pour - ECPv2.0.11//NONSGML v1.0//EN
CALSCALE:GREGORIAN
METHOD:PUBLISH
X-WR-CALNAME:Paint &amp; Pour
X-ORIGINAL-URL:https://thepaintandpour.com
X-WR-CALDESC:Events for Paint &amp; Pour
X-WR-TIMEZONE:America/Detroit
BEGIN:VEVENT
DTSTART;VALUE=DATE-TIME:20190316T120000
DTEND;VALUE=DATE-TIME:20190316T140000.000000
DTSTAMP:20260423T225151
CREATED:20190306T184300
LAST-MODIFIED:20190306T184300
UID:428011-1552737600-@https://thepaintandpour.com
SUMMARY:Essynce 11th Birthday - Rainbow Unicorn - Mar 16th 12-2 PM
DESCRIPTION:Rainbow Unicorn  Essynce 11th Birthday  PRIVATE PARTY
LOCATION:22000 Michigan Ave, Dearborn, MI, 48124, United States
URL:https://thepaintandpour.com/event/essynce-11th-birthday-rainbow-unicorn-mar-16th-12-2-pm/
END:VEVENT
END:VCALENDAR