BEGIN:VCALENDAR
VERSION:2.0
PRODID:-//Paint &amp; Pour - ECPv2.0.11//NONSGML v1.0//EN
CALSCALE:GREGORIAN
METHOD:PUBLISH
X-WR-CALNAME:Paint &amp; Pour
X-ORIGINAL-URL:https://thepaintandpour.com
X-WR-CALDESC:Events for Paint &amp; Pour
X-WR-TIMEZONE:America/Detroit
BEGIN:VEVENT
DTSTART;VALUE=DATE-TIME:20180815T183000
DTEND;VALUE=DATE-TIME:20180815T213000.000000
DTSTAMP:20260425T004610
CREATED:20180615T194458
LAST-MODIFIED:20180615T194458
UID:394198-1534357800-@https://thepaintandpour.com
SUMMARY:Endless Summer Nights - Aug 15th 6:30-9:30 PM
DESCRIPTION:&nbsp;  Endless Summer Nights  &nbsp;    &nbsp;
LOCATION:5 S Washington St, Ypsilanti, MI, 48197, United States
URL:https://thepaintandpour.com/event/endless-summer-nights-aug-15th-630-930-pm/
END:VEVENT
END:VCALENDAR