BEGIN:VCALENDAR
VERSION:2.0
PRODID:-//Paint &amp; Pour - ECPv2.0.11//NONSGML v1.0//EN
CALSCALE:GREGORIAN
METHOD:PUBLISH
X-WR-CALNAME:Paint &amp; Pour
X-ORIGINAL-URL:https://thepaintandpour.com
X-WR-CALDESC:Events for Paint &amp; Pour
X-WR-TIMEZONE:America/Detroit
BEGIN:VEVENT
DTSTART;VALUE=DATE-TIME:20181023T180000
DTEND;VALUE=DATE-TIME:20181023T200000.000000
DTSTAMP:20260424T002145
CREATED:20180911T152142
LAST-MODIFIED:20181021T195440
UID:401586-1540317600-@https://thepaintandpour.com
SUMMARY:EMU Homecoming Event - Harvest of Green - Oct 23rd 6-8 PM
DESCRIPTION:Harvest of Green  EMU Homecoming Event  PRIVATE PARTY  EMU Student Center  900 Oakwood St.  Ypsilanti\, MI 48197  &nbsp;    While this event is almost sold out\, there are still tickets available for the event on WEDNESDAY\, Oct 24th 6-8 PM.  Sign up for that event by clicking this link!
LOCATION:900 Oakwood St, Ypsilanti, MI, 48197, United States
URL:https://thepaintandpour.com/event/emu-homecoming-event-tbd-custom-art-oct-23rd-6-8-pm/
END:VEVENT
END:VCALENDAR