BEGIN:VCALENDAR
VERSION:2.0
PRODID:-//Paint &amp; Pour - ECPv2.0.11//NONSGML v1.0//EN
CALSCALE:GREGORIAN
METHOD:PUBLISH
X-WR-CALNAME:Paint &amp; Pour
X-ORIGINAL-URL:https://thepaintandpour.com
X-WR-CALDESC:Events for Paint &amp; Pour
X-WR-TIMEZONE:America/Detroit
BEGIN:VEVENT
DTSTART;VALUE=DATE-TIME:20180407T143000
DTEND;VALUE=DATE-TIME:20180407T163000.000000
DTSTAMP:20260423T220748
CREATED:20180326T172327
LAST-MODIFIED:20180403T121732
UID:383721-1523111400-@https://thepaintandpour.com
SUMMARY:Ellie's Birthday Party - Marsha's Flutterby - Apr 7th 2:30-4:30 PM
DESCRIPTION:  Marsha's Flutterby  Ellie's Birthday Party  PRIVATE PARTY
LOCATION:111 South West St, Brighton, MI, 48116, United States
URL:https://thepaintandpour.com/event/ellies-birthday-party-marshas-flutterby-apr-7th-230-430-pm/
END:VEVENT
END:VCALENDAR