BEGIN:VCALENDAR
VERSION:2.0
PRODID:-//Paint &amp; Pour - ECPv2.0.11//NONSGML v1.0//EN
CALSCALE:GREGORIAN
METHOD:PUBLISH
X-WR-CALNAME:Paint &amp; Pour
X-ORIGINAL-URL:https://thepaintandpour.com
X-WR-CALDESC:Events for Paint &amp; Pour
X-WR-TIMEZONE:America/Detroit
BEGIN:VEVENT
DTSTART;VALUE=DATE-TIME:20190430T190000
DTEND;VALUE=DATE-TIME:20190430T210000.000000
DTSTAMP:20260423T083321
CREATED:20190429T164605
LAST-MODIFIED:20190429T164605
UID:433342-1556650800-@https://thepaintandpour.com
SUMMARY:DTE Painting Party - TBD Custom - Apr 30th 7-9 PM
DESCRIPTION:TBD Custom  DTE Painting Party  PRIVATE PARTY
LOCATION:5 S Washington St, Ypsilanti, MI, 48197, United States
URL:https://thepaintandpour.com/event/dte-painting-party-tbd-custom-apr-30th-7-9-pm-2/
END:VEVENT
END:VCALENDAR