BEGIN:VCALENDAR
VERSION:2.0
PRODID:-//Paint &amp; Pour - ECPv2.0.11//NONSGML v1.0//EN
CALSCALE:GREGORIAN
METHOD:PUBLISH
X-WR-CALNAME:Paint &amp; Pour
X-ORIGINAL-URL:https://thepaintandpour.com
X-WR-CALDESC:Events for Paint &amp; Pour
X-WR-TIMEZONE:America/Detroit
BEGIN:VEVENT
DTSTART;VALUE=DATE-TIME:20180506T130000
DTEND;VALUE=DATE-TIME:20180506T160000.000000
DTSTAMP:20260424T075810
CREATED:20180428T015602
LAST-MODIFIED:20180428T020307
UID:390389-1525611600-@https://thepaintandpour.com
SUMMARY:DIY Glass Painting for Dads & Kids
DESCRIPTION:DIY Glass Painting for Dads &amp; Kids  Join Paint and Pour at the Ypsi Ale House for a DIY Glass Painting class for Dads &amp; Kids!  Do something special for Mom while she takes the day off. Multiple glass ware options will be available\, including wine glasses\, beer mugs\, cider glasses\, etc.    Staff from Paint and Pour will be at the Ypsi Ale House to offer guidance\, provide the various art supplies\, and assist painters in bringing their visions to life.  Feel free to bring in your own sources of inspiration for the art YOU want to create for your special Mom!      Ticket includes ONE glass item and a beer for Dad.    Additional pieces of glassware may be purchased on site only\, for $5 each.    Each piece of glass take about an hour to paint\, so plan accordingly.  
LOCATION:124 Pearl St, Ste 100, ypsilanti, MI, 48197, United States
URL:https://thepaintandpour.com/event/diy-glass-painting-for-dads-kids/
END:VEVENT
END:VCALENDAR