BEGIN:VCALENDAR
VERSION:2.0
PRODID:-//Paint &amp; Pour - ECPv2.0.11//NONSGML v1.0//EN
CALSCALE:GREGORIAN
METHOD:PUBLISH
X-WR-CALNAME:Paint &amp; Pour
X-ORIGINAL-URL:https://thepaintandpour.com
X-WR-CALDESC:Events for Paint &amp; Pour
X-WR-TIMEZONE:America/Detroit
BEGIN:VEVENT
DTSTART;VALUE=DATE-TIME:20190119T190000
DTEND;VALUE=DATE-TIME:20190119T210000.000000
DTSTAMP:20260423T193643
CREATED:20181116T004520
LAST-MODIFIED:20190119T161811
UID:412706-1547924400-@https://thepaintandpour.com
SUMMARY:Detroit Skyline - Jan 19th 7-9 PM
DESCRIPTION:&nbsp;  Detroit Skyline  &nbsp;
LOCATION:5 S Washington St, Ypsilanti, MI, 48197, United States
URL:https://thepaintandpour.com/event/detroit-skyline-jan-19th-7-9-pm/
END:VEVENT
END:VCALENDAR