BEGIN:VCALENDAR
VERSION:2.0
PRODID:-//Paint &amp; Pour - ECPv2.0.11//NONSGML v1.0//EN
CALSCALE:GREGORIAN
METHOD:PUBLISH
X-WR-CALNAME:Paint &amp; Pour
X-ORIGINAL-URL:https://thepaintandpour.com
X-WR-CALDESC:Events for Paint &amp; Pour
X-WR-TIMEZONE:America/Detroit
BEGIN:VEVENT
DTSTART;VALUE=DATE-TIME:20190428T180000
DTEND;VALUE=DATE-TIME:20190428T200000.000000
DTSTAMP:20260423T194152
CREATED:20190213T213256
LAST-MODIFIED:20190213T213256
UID:425961-1556474400-@https://thepaintandpour.com
SUMMARY:Detroit Dawn - Apr 28th 6-8 PM
DESCRIPTION:&nbsp;  Detroit Dawn
LOCATION:5 S Washington St, Ypsilanti, MI, 48197, United States
URL:https://thepaintandpour.com/event/detroit-dawn-apr-28th-6-8-pm/
END:VEVENT
END:VCALENDAR