BEGIN:VCALENDAR
VERSION:2.0
PRODID:-//Paint &amp; Pour - ECPv2.0.11//NONSGML v1.0//EN
CALSCALE:GREGORIAN
METHOD:PUBLISH
X-WR-CALNAME:Paint &amp; Pour
X-ORIGINAL-URL:https://thepaintandpour.com
X-WR-CALDESC:Events for Paint &amp; Pour
X-WR-TIMEZONE:America/Detroit
BEGIN:VEVENT
DTSTART;VALUE=DATE-TIME:20200215T120000
DTEND;VALUE=DATE-TIME:20200215T140000.000000
DTSTAMP:20260424T030433
CREATED:20200119T134941
LAST-MODIFIED:20200119T140125
UID:535998-1581768000-@https://thepaintandpour.com
SUMMARY:Delta Gamma's Mom's Weekend - TBD - 12-2PM
DESCRIPTION:Delta Gamma's Mom's Weekend  - TBD -
LOCATION:5 S Washington St, Ypsilanti, MI, 48197, United States
URL:https://thepaintandpour.com/event/delta-gammas-moms-weekend-tbd-12-2pm/
END:VEVENT
END:VCALENDAR