BEGIN:VCALENDAR
VERSION:2.0
PRODID:-//Paint &amp; Pour - ECPv2.0.11//NONSGML v1.0//EN
CALSCALE:GREGORIAN
METHOD:PUBLISH
X-WR-CALNAME:Paint &amp; Pour
X-ORIGINAL-URL:https://thepaintandpour.com
X-WR-CALDESC:Events for Paint &amp; Pour
X-WR-TIMEZONE:America/Detroit
BEGIN:VEVENT
DTSTART;VALUE=DATE-TIME:20191212T190000
DTEND;VALUE=DATE-TIME:20191212T210000.000000
DTSTAMP:20260424T155117
CREATED:20191112T131330
LAST-MODIFIED:20191126T184125
UID:535116-1576177200-@https://thepaintandpour.com
SUMMARY:December Forest - Dec 12th 7-9 PM
DESCRIPTION:December Forest
LOCATION:5 S Washington St, Ypsilanti, MI, 48197, United States
URL:https://thepaintandpour.com/event/december-forest-dec-12th-7-9-pm/
END:VEVENT
END:VCALENDAR