BEGIN:VCALENDAR
VERSION:2.0
PRODID:-//Paint &amp; Pour - ECPv2.0.11//NONSGML v1.0//EN
CALSCALE:GREGORIAN
METHOD:PUBLISH
X-WR-CALNAME:Paint &amp; Pour
X-ORIGINAL-URL:https://thepaintandpour.com
X-WR-CALDESC:Events for Paint &amp; Pour
X-WR-TIMEZONE:America/Detroit
BEGIN:VEVENT
DTSTART;VALUE=DATE-TIME:20180721T153000
DTEND;VALUE=DATE-TIME:20180721T173000.000000
DTSTAMP:20260423T155609
CREATED:20180622T172734
LAST-MODIFIED:20180622T172734
UID:394629-1532187000-@https://thepaintandpour.com
SUMMARY:Debra's Bachelorette Party - Glass Painting - Jul 21st 3:30-5:30 PM
DESCRIPTION:  Glass Painting  Debra's Bachelorette Party  PRIVATE PARTY
LOCATION:111 South West St, Brighton, MI, 48116, United States
URL:https://thepaintandpour.com/event/debras-bachelorette-party-glass-painting-jul-21st-330-530-pm/
END:VEVENT
END:VCALENDAR