BEGIN:VCALENDAR
VERSION:2.0
PRODID:-//Paint &amp; Pour - ECPv2.0.11//NONSGML v1.0//EN
CALSCALE:GREGORIAN
METHOD:PUBLISH
X-WR-CALNAME:Paint &amp; Pour
X-ORIGINAL-URL:https://thepaintandpour.com
X-WR-CALDESC:Events for Paint &amp; Pour
X-WR-TIMEZONE:America/Detroit
BEGIN:VEVENT
DTSTART;VALUE=DATE-TIME:20181027T190000
DTEND;VALUE=DATE-TIME:20181027T210000.000000
DTSTAMP:20260424T054334
CREATED:20180814T002426
LAST-MODIFIED:20181024T165037
UID:397812-1540666800-@https://thepaintandpour.com
SUMMARY:Dark Shadows - Oct 27th 7-9 PM
DESCRIPTION:&nbsp;  Dark Shadows  With HANNAH!  &nbsp;
LOCATION:111 South West St, Brighton, MI, 48116, United States
URL:https://thepaintandpour.com/event/dark-shadows-oct-27th-7-9-pm/
END:VEVENT
END:VCALENDAR