BEGIN:VCALENDAR
VERSION:2.0
PRODID:-//Paint &amp; Pour - ECPv2.0.11//NONSGML v1.0//EN
CALSCALE:GREGORIAN
METHOD:PUBLISH
X-WR-CALNAME:Paint &amp; Pour
X-ORIGINAL-URL:https://thepaintandpour.com
X-WR-CALDESC:Events for Paint &amp; Pour
X-WR-TIMEZONE:America/Detroit
BEGIN:VEVENT
DTSTART;VALUE=DATE-TIME:20190119T190000
DTEND;VALUE=DATE-TIME:20190119T210000.000000
DTSTAMP:20260424T192306
CREATED:20181129T002628
LAST-MODIFIED:20190116T133252
UID:414467-1547924400-@https://thepaintandpour.com
SUMMARY:Dandelion Wishes - Jan 19th 7-9 PM
DESCRIPTION:Dandelion Wishes
LOCATION:10866 Cedar Lake Rd, Pinckney, MI, 48169, United States
URL:https://thepaintandpour.com/event/dandelion-wishes-jan-19th-7-9-pm/
END:VEVENT
END:VCALENDAR