BEGIN:VCALENDAR
VERSION:2.0
PRODID:-//Paint &amp; Pour - ECPv2.0.11//NONSGML v1.0//EN
CALSCALE:GREGORIAN
METHOD:PUBLISH
X-WR-CALNAME:Paint &amp; Pour
X-ORIGINAL-URL:https://thepaintandpour.com
X-WR-CALDESC:Events for Paint &amp; Pour
X-WR-TIMEZONE:America/Detroit
BEGIN:VEVENT
DTSTART;VALUE=DATE-TIME:20180616T190000
DTEND;VALUE=DATE-TIME:20180616T210000.000000
DTSTAMP:20260425T035607
CREATED:20180408T003253
LAST-MODIFIED:20180522T191138
UID:384766-1529175600-@https://thepaintandpour.com
SUMMARY:Dandelion Dreams - Jun 16th 7-9 PM
DESCRIPTION:&nbsp;  Dandelion Dreams  &nbsp;    &nbsp;
LOCATION:111 South West St, Brighton, MI, 48116, United States
URL:https://thepaintandpour.com/event/dandelion-dreams-jun-16th-7-9-pm/
END:VEVENT
END:VCALENDAR