BEGIN:VCALENDAR
VERSION:2.0
PRODID:-//Paint &amp; Pour - ECPv2.0.11//NONSGML v1.0//EN
CALSCALE:GREGORIAN
METHOD:PUBLISH
X-WR-CALNAME:Paint &amp; Pour
X-ORIGINAL-URL:https://thepaintandpour.com
X-WR-CALDESC:Events for Paint &amp; Pour
X-WR-TIMEZONE:America/Detroit
BEGIN:VEVENT
DTSTART;VALUE=DATE-TIME:20180821T190000
DTEND;VALUE=DATE-TIME:20180821T210000.000000
DTSTAMP:20260422T094109
CREATED:20180615T222908
LAST-MODIFIED:20180809T161331
UID:394251-1534878000-@https://thepaintandpour.com
SUMMARY:Dance With Me - Aug 21st 7-9 PM
DESCRIPTION:Dance With Me  &nbsp;    &nbsp;
LOCATION:5 S Washington St, Ypsilanti, MI, 48197, United States
URL:https://thepaintandpour.com/event/dance-with-me-aug-21st-7-9-pm/
END:VEVENT
END:VCALENDAR