BEGIN:VCALENDAR
VERSION:2.0
PRODID:-//Paint &amp; Pour - ECPv2.0.11//NONSGML v1.0//EN
CALSCALE:GREGORIAN
METHOD:PUBLISH
X-WR-CALNAME:Paint &amp; Pour
X-ORIGINAL-URL:https://thepaintandpour.com
X-WR-CALDESC:Events for Paint &amp; Pour
X-WR-TIMEZONE:America/Detroit
BEGIN:VEVENT
DTSTART;VALUE=DATE-TIME:20180407T190000
DTEND;VALUE=DATE-TIME:20180407T220000.000000
DTSTAMP:20260423T203350
CREATED:20180326T180626
LAST-MODIFIED:20180326T180626
UID:383742-1523127600-@https://thepaintandpour.com
SUMMARY:Dad's 50th (+1) Birthday - TBD - Apr 7th 7-10 PM
DESCRIPTION:  TBD  Dad's 50th (+1) Birthday  PRIVATE PARTY    Tony's 50th (+1) Birthday!
LOCATION:22000 Michigan Ave, Dearborn, MI, 48124, United States
URL:https://thepaintandpour.com/event/dads-50th-1-birthday-tbd-apr-7th-7-10-pm/
END:VEVENT
END:VCALENDAR