BEGIN:VCALENDAR
VERSION:2.0
PRODID:-//Paint &amp; Pour - ECPv2.0.11//NONSGML v1.0//EN
CALSCALE:GREGORIAN
METHOD:PUBLISH
X-WR-CALNAME:Paint &amp; Pour
X-ORIGINAL-URL:https://thepaintandpour.com
X-WR-CALDESC:Events for Paint &amp; Pour
X-WR-TIMEZONE:America/Detroit
BEGIN:VEVENT
DTSTART;VALUE=DATE-TIME:20180907T190000
DTEND;VALUE=DATE-TIME:20180907T210000.000000
DTSTAMP:20260424T110442
CREATED:20180726T010709
LAST-MODIFIED:20180726T010709
UID:396394-1536346800-@https://thepaintandpour.com
SUMMARY:Couples - Songbirds - Sep 7th 7-9 PM
DESCRIPTION:&nbsp;  Songbirds  "Couples Class"  &nbsp;    In a Couple's class\, each patron works on HALF of the complete painting shown above. When placed next to each other\, it shows the complete painting\, but the art is designed so that each piece is complete on its own. For those who wish to attend this class solo\, you are welcome to do so. The prices listed below are per ticket\, so a couple would need to purchase two tickets if they both plan to paint!    &nbsp;
LOCATION:22000 Michigan Ave, Dearborn, MI, 48124, United States
URL:https://thepaintandpour.com/event/couples-songbirds-sep-7th-7-9-pm/
END:VEVENT
END:VCALENDAR