BEGIN:VCALENDAR
VERSION:2.0
PRODID:-//Paint &amp; Pour - ECPv2.0.11//NONSGML v1.0//EN
CALSCALE:GREGORIAN
METHOD:PUBLISH
X-WR-CALNAME:Paint &amp; Pour
X-ORIGINAL-URL:https://thepaintandpour.com
X-WR-CALDESC:Events for Paint &amp; Pour
X-WR-TIMEZONE:America/Detroit
BEGIN:VEVENT
DTSTART;VALUE=DATE-TIME:20181025T140000
DTEND;VALUE=DATE-TIME:20181025T160000.000000
DTSTAMP:20260424T060712
CREATED:20181003T195758
LAST-MODIFIED:20181018T183559
UID:403536-1540476000-@https://thepaintandpour.com
SUMMARY:Company Fall Fun Day - Morning Light - Oct 25th 2-4 PM
DESCRIPTION:Morning Light  Company Fall Fun Day  PRIVATE PARTY
LOCATION:5 S Washington St, Ypsilanti, MI, 48197, United States
URL:https://thepaintandpour.com/event/company-fall-fun-day-morning-light-oct-25th-2-4-pm/
END:VEVENT
END:VCALENDAR