BEGIN:VCALENDAR
VERSION:2.0
PRODID:-//Paint &amp; Pour - ECPv2.0.11//NONSGML v1.0//EN
CALSCALE:GREGORIAN
METHOD:PUBLISH
X-WR-CALNAME:Paint &amp; Pour
X-ORIGINAL-URL:https://thepaintandpour.com
X-WR-CALDESC:Events for Paint &amp; Pour
X-WR-TIMEZONE:America/Detroit
BEGIN:VEVENT
DTSTART;VALUE=DATE-TIME:20180808T170000
DTEND;VALUE=DATE-TIME:20180808T190000.000000
DTSTAMP:20260423T211135
CREATED:20180605T170556
LAST-MODIFIED:20180807T172422
UID:393528-1533747600-@https://thepaintandpour.com
SUMMARY:Citizens/Hantz - The D at Dusk - Aug 8th 5-7 PM
DESCRIPTION:  The D at Dusk  Citizens/Hantz  PRIVATE PARTY  Citizens Insurance  808 N. Highlander  Howell\, MI
LOCATION:MI, United States
URL:https://thepaintandpour.com/event/citizens-hantz-the-d-at-dusk-aug-8th-5-7-pm/
END:VEVENT
END:VCALENDAR