BEGIN:VCALENDAR
VERSION:2.0
PRODID:-//Paint &amp; Pour - ECPv2.0.11//NONSGML v1.0//EN
CALSCALE:GREGORIAN
METHOD:PUBLISH
X-WR-CALNAME:Paint &amp; Pour
X-ORIGINAL-URL:https://thepaintandpour.com
X-WR-CALDESC:Events for Paint &amp; Pour
X-WR-TIMEZONE:America/Detroit
BEGIN:VEVENT
DTSTART;VALUE=DATE-TIME:20180310T190000
DTEND;VALUE=DATE-TIME:20180310T200000.000000
DTSTAMP:20260424T044412
CREATED:20180222T163238
LAST-MODIFIED:20180226T184639
UID:380770-1520708400-@https://thepaintandpour.com
SUMMARY:Chi Phi Gal's Weekend - Tree of Life - Mar 10th 7-8 PM
DESCRIPTION:  Tree of Life  Chi Phi Gal's Weekend  PRIVATE PARTY  Thank you for making the trip to Ann Arbor to spend time with your favorite boy! Enjoy the 1 hour painting session\, wine\,&amp; company of the Chi Phi brotherhood!  Are YOU interested in having a private party with us?  Paint and Pour offers an incredible new way to spice up your next event. Let our Entertainer/Instructors guide your guests through an evening of art and merriment\, and they’ll be sure to talk about it for weeks! Paint and Pour private parties are great for ANY event\, so don’t hesitate.  Call us at (734) 720-9777 or Contact Us today to schedule your Paint Party!
LOCATION:5 S Washington St, Ypsilanti, MI, 48197, United States
URL:https://thepaintandpour.com/event/chi-phi-gals-weekend-tree-of-life-mar-10th-7-8-pm/
END:VEVENT
END:VCALENDAR