BEGIN:VCALENDAR
VERSION:2.0
PRODID:-//Paint &amp; Pour - ECPv2.0.11//NONSGML v1.0//EN
CALSCALE:GREGORIAN
METHOD:PUBLISH
X-WR-CALNAME:Paint &amp; Pour
X-ORIGINAL-URL:https://thepaintandpour.com
X-WR-CALDESC:Events for Paint &amp; Pour
X-WR-TIMEZONE:America/Detroit
BEGIN:VEVENT
DTSTART;VALUE=DATE-TIME:20190519T140000
DTEND;VALUE=DATE-TIME:20190519T160000.000000
DTSTAMP:20260424T111329
CREATED:20190426T141354
LAST-MODIFIED:20190426T141519
UID:433226-1558274400-@https://thepaintandpour.com
SUMMARY:Cayden's Birthday - Hammerhead Time - May 19th 2-4 PM
DESCRIPTION:Hammerhead Time  Cayden's Birthday  PRIVATE PARTY
LOCATION:111 South West St, Brighton, MI, 48116, United States
URL:https://thepaintandpour.com/event/caydens-birthday-hammerhead-time-may-19th-2-4-pm/
END:VEVENT
END:VCALENDAR