BEGIN:VCALENDAR
VERSION:2.0
PRODID:-//Paint &amp; Pour - ECPv2.0.11//NONSGML v1.0//EN
CALSCALE:GREGORIAN
METHOD:PUBLISH
X-WR-CALNAME:Paint &amp; Pour
X-ORIGINAL-URL:https://thepaintandpour.com
X-WR-CALDESC:Events for Paint &amp; Pour
X-WR-TIMEZONE:America/Detroit
BEGIN:VEVENT
DTSTART;VALUE=DATE-TIME:20190919T190000
DTEND;VALUE=DATE-TIME:20190919T210000.000000
DTSTAMP:20260424T204411
CREATED:20190819T141551
LAST-MODIFIED:20190917T012703
UID:503677-1568919600-@https://thepaintandpour.com
SUMMARY:Cathy's Bachelorette Party- Sailing Reflections- Sep 19th 7-9 PM
DESCRIPTION:Sailing Reflections  Cathy's Bachelorette Party
LOCATION:5 S Washington St, Ypsilanti, MI, 48197, United States
URL:https://thepaintandpour.com/event/cathys-bachelorette-party-sailing-reflections-sep-19th-7-9-pm/
END:VEVENT
END:VCALENDAR