BEGIN:VCALENDAR
VERSION:2.0
PRODID:-//Paint &amp; Pour - ECPv2.0.11//NONSGML v1.0//EN
CALSCALE:GREGORIAN
METHOD:PUBLISH
X-WR-CALNAME:Paint &amp; Pour
X-ORIGINAL-URL:https://thepaintandpour.com
X-WR-CALDESC:Events for Paint &amp; Pour
X-WR-TIMEZONE:America/Detroit
BEGIN:VEVENT
DTSTART;VALUE=DATE-TIME:20181028T120000
DTEND;VALUE=DATE-TIME:20181028T140000.000000
DTSTAMP:20260423T142208
CREATED:20181002T120942
LAST-MODIFIED:20181003T162257
UID:403339-1540728000-@https://thepaintandpour.com
SUMMARY:Cassidy's 12th Birthday - Chrissi the Norwhal - Oct 28th 12-2 PM
DESCRIPTION:  Chrissi the Norwhal  Cassidy's 12th Birthday  PRIVATE PARTY
LOCATION:111 South West St, Brighton, MI, 48116, United States
URL:https://thepaintandpour.com/event/cassidys-12th-birthday-chrissi-the-norwhal-oct-28th-12-2-pm/
END:VEVENT
END:VCALENDAR