BEGIN:VCALENDAR
VERSION:2.0
PRODID:-//Paint &amp; Pour - ECPv2.0.11//NONSGML v1.0//EN
CALSCALE:GREGORIAN
METHOD:PUBLISH
X-WR-CALNAME:Paint &amp; Pour
X-ORIGINAL-URL:https://thepaintandpour.com
X-WR-CALDESC:Events for Paint &amp; Pour
X-WR-TIMEZONE:America/Detroit
BEGIN:VEVENT
DTSTART;VALUE=DATE-TIME:20181107T190000
DTEND;VALUE=DATE-TIME:20181107T210000.000000
DTSTAMP:20260425T040353
CREATED:20181101T201350
LAST-MODIFIED:20181101T203236
UID:410120-1541617200-@https://thepaintandpour.com
SUMMARY:Case Jam Offsite - Campfire Magic - Nov 7th 7-9 PM
DESCRIPTION:Campfire Magic  Case Jam Offsite  PRIVATE PARTY
LOCATION:5 S Washington St, Ypsilanti, MI, 48197, United States
URL:https://thepaintandpour.com/event/case-jam-offsite-campfire-magic-nov-7th-7-9-pm/
END:VEVENT
END:VCALENDAR