BEGIN:VCALENDAR
VERSION:2.0
PRODID:-//Paint &amp; Pour - ECPv2.0.11//NONSGML v1.0//EN
CALSCALE:GREGORIAN
METHOD:PUBLISH
X-WR-CALNAME:Paint &amp; Pour
X-ORIGINAL-URL:https://thepaintandpour.com
X-WR-CALDESC:Events for Paint &amp; Pour
X-WR-TIMEZONE:America/Detroit
BEGIN:VEVENT
DTSTART;VALUE=DATE-TIME:20190309T190000
DTEND;VALUE=DATE-TIME:20190309T210000.000000
DTSTAMP:20260424T140820
CREATED:20190121T112932
LAST-MODIFIED:20190121T112932
UID:423195-1552158000-@https://thepaintandpour.com
SUMMARY:Cancun Dreams - Mar 9th 7-9 PM
DESCRIPTION:Cancun Dreams  &nbsp;
LOCATION:10866 Cedar Lake Rd, Pinckney, MI, 48169, United States
URL:https://thepaintandpour.com/event/cancun-dreams-mar-9th-7-9-pm/
END:VEVENT
END:VCALENDAR