BEGIN:VCALENDAR
VERSION:2.0
PRODID:-//Paint &amp; Pour - ECPv2.0.11//NONSGML v1.0//EN
CALSCALE:GREGORIAN
METHOD:PUBLISH
X-WR-CALNAME:Paint &amp; Pour
X-ORIGINAL-URL:https://thepaintandpour.com
X-WR-CALDESC:Events for Paint &amp; Pour
X-WR-TIMEZONE:America/Detroit
BEGIN:VEVENT
DTSTART;VALUE=DATE-TIME:20181101T190000
DTEND;VALUE=DATE-TIME:20181101T210000.000000
DTSTAMP:20260424T104103
CREATED:20180914T214819
LAST-MODIFIED:20180914T214819
UID:402035-1541098800-@https://thepaintandpour.com
SUMMARY:Campfire Magic - Nov 1st 7-9 PM
DESCRIPTION:&nbsp;  Campfire Magic  &nbsp;
LOCATION:5 S Washington St, Ypsilanti, MI, 48197, United States
URL:https://thepaintandpour.com/event/campfire-magic-nov-1st-7-9-pm/
END:VEVENT
END:VCALENDAR