BEGIN:VCALENDAR
VERSION:2.0
PRODID:-//Paint &amp; Pour - ECPv2.0.11//NONSGML v1.0//EN
CALSCALE:GREGORIAN
METHOD:PUBLISH
X-WR-CALNAME:Paint &amp; Pour
X-ORIGINAL-URL:https://thepaintandpour.com
X-WR-CALDESC:Events for Paint &amp; Pour
X-WR-TIMEZONE:America/Detroit
BEGIN:VEVENT
DTSTART;VALUE=DATE-TIME:20190629T190000
DTEND;VALUE=DATE-TIME:20190629T210000.000000
DTSTAMP:20260424T063339
CREATED:20190410T210944
LAST-MODIFIED:20190612T071851
UID:431995-1561834800-@https://thepaintandpour.com
SUMMARY:By the Light of the Moon - Jun 29th 7-9 PM
DESCRIPTION:&nbsp;  By the Light of the Moon  &nbsp;
LOCATION:111 South West St, Brighton, MI, 48116, United States
URL:https://thepaintandpour.com/event/by-the-light-of-the-moon-jun-29th-7-9-pm/
END:VEVENT
END:VCALENDAR