BEGIN:VCALENDAR
VERSION:2.0
PRODID:-//Paint &amp; Pour - ECPv2.0.11//NONSGML v1.0//EN
CALSCALE:GREGORIAN
METHOD:PUBLISH
X-WR-CALNAME:Paint &amp; Pour
X-ORIGINAL-URL:https://thepaintandpour.com
X-WR-CALDESC:Events for Paint &amp; Pour
X-WR-TIMEZONE:America/Detroit
BEGIN:VEVENT
DTSTART;VALUE=DATE-TIME:20180405T190000
DTEND;VALUE=DATE-TIME:20180405T210000.000000
DTSTAMP:20260424T050647
CREATED:20180202T232549
LAST-MODIFIED:20180405T143645
UID:378728-1522954800-@https://thepaintandpour.com
SUMMARY:By the Light of the Moon - Apr 5th 7-9 PM
DESCRIPTION:&nbsp;  By the Light of the Moon  Are YOU interested in having a private party with us?    Paint and Pour offers an incredible new way to spice up your next event. Let our Entertainer/Instructors guide your guests through an evening of art and merriment\, and they’ll be sure to talk about it for weeks! Paint and Pour private parties are great for ANY event\, so don’t hesitate.    Call us at (734) 720-9777 or Contact Us today to schedule your Paint Party!
LOCATION:111 South West St, Brighton, MI, 48116, United States
URL:https://thepaintandpour.com/event/by-the-light-of-the-moon-apr-5th-7-9-pm/
END:VEVENT
END:VCALENDAR