BEGIN:VCALENDAR
VERSION:2.0
PRODID:-//Paint &amp; Pour - ECPv2.0.11//NONSGML v1.0//EN
CALSCALE:GREGORIAN
METHOD:PUBLISH
X-WR-CALNAME:Paint &amp; Pour
X-ORIGINAL-URL:https://thepaintandpour.com
X-WR-CALDESC:Events for Paint &amp; Pour
X-WR-TIMEZONE:America/Detroit
BEGIN:VEVENT
DTSTART;VALUE=DATE-TIME:20180922T190000
DTEND;VALUE=DATE-TIME:20180922T210000.000000
DTSTAMP:20260421T142949
CREATED:20180807T185143
LAST-MODIFIED:20180807T185357
UID:397243-1537642800-@https://thepaintandpour.com
SUMMARY:Brianna's Bachelorette Party - Harvest Lake - Sep 22nd 7-9 PM
DESCRIPTION:  Harvest Lake  Brianna's Bachelorette Party  PRIVATE PARTY
LOCATION:22000 Michigan Ave, Dearborn, MI, 48124, United States
URL:https://thepaintandpour.com/event/briannas-bachelorette-party-harvest-lake-sep-22nd-7-9-pm/
END:VEVENT
END:VCALENDAR