BEGIN:VCALENDAR
VERSION:2.0
PRODID:-//Paint &amp; Pour - ECPv2.0.11//NONSGML v1.0//EN
CALSCALE:GREGORIAN
METHOD:PUBLISH
X-WR-CALNAME:Paint &amp; Pour
X-ORIGINAL-URL:https://thepaintandpour.com
X-WR-CALDESC:Events for Paint &amp; Pour
X-WR-TIMEZONE:America/Detroit
BEGIN:VEVENT
DTSTART;VALUE=DATE-TIME:20190331T153000
DTEND;VALUE=DATE-TIME:20190331T173000.000000
DTSTAMP:20260423T212800
CREATED:20190313T181720
LAST-MODIFIED:20190314T151831
UID:428703-1554046200-@https://thepaintandpour.com
SUMMARY:Boobs & Boots - Sunset Siesta - Mar 31st 3:30-5:30 PM
DESCRIPTION:Sunset Siesta  Boobs &amp; Boots  PRIVATE PARTY  Come out &amp; celebrate my little sister\, Courtney\, birthday with her!  Have &amp; Enjoy!
LOCATION:22000 Michigan Ave, Dearborn, MI, 48124, United States
URL:https://thepaintandpour.com/event/boobs-boots-sunset-siesta-mar-31st-330-530-pm/
END:VEVENT
END:VCALENDAR