BEGIN:VCALENDAR
VERSION:2.0
PRODID:-//Paint &amp; Pour - ECPv2.0.11//NONSGML v1.0//EN
CALSCALE:GREGORIAN
METHOD:PUBLISH
X-WR-CALNAME:Paint &amp; Pour
X-ORIGINAL-URL:https://thepaintandpour.com
X-WR-CALDESC:Events for Paint &amp; Pour
X-WR-TIMEZONE:America/Detroit
BEGIN:VEVENT
DTSTART;VALUE=DATE-TIME:20200111T190000
DTEND;VALUE=DATE-TIME:20200111T210000.000000
DTSTAMP:20260425T035507
CREATED:20191215T180051
LAST-MODIFIED:20191215T180051
UID:535589-1578769200-@https://thepaintandpour.com
SUMMARY:Blue Birch - Jan 11th 7-9 PM
DESCRIPTION:Blue Birch
LOCATION:5 S Washington St, Ypsilanti, MI, 48197, United States
URL:https://thepaintandpour.com/event/blue-birch-jan-11th-7-9-pm/
END:VEVENT
END:VCALENDAR