BEGIN:VCALENDAR
VERSION:2.0
PRODID:-//Paint &amp; Pour - ECPv2.0.11//NONSGML v1.0//EN
CALSCALE:GREGORIAN
METHOD:PUBLISH
X-WR-CALNAME:Paint &amp; Pour
X-ORIGINAL-URL:https://thepaintandpour.com
X-WR-CALDESC:Events for Paint &amp; Pour
X-WR-TIMEZONE:America/Detroit
BEGIN:VEVENT
DTSTART;VALUE=DATE-TIME:20180407T180000
DTEND;VALUE=DATE-TIME:20180407T200000.000000
DTSTAMP:20260424T080321
CREATED:20180320T172844
LAST-MODIFIED:20180406T143756
UID:383125-1523124000-@https://thepaintandpour.com
SUMMARY:Birthday - Turn to the Sun - Apr 7th 6-8 PM
DESCRIPTION:  Turn to the Sun  Birthday  PRIVATE PARTY  Loft# 320  727 W. Grand Blvd.  Detroit\, MI 48216  
LOCATION:MI, United States
URL:https://thepaintandpour.com/event/birthday-turn-to-the-sun-apr-7th-6-8-pm/
END:VEVENT
END:VCALENDAR