BEGIN:VCALENDAR
VERSION:2.0
PRODID:-//Paint &amp; Pour - ECPv2.0.11//NONSGML v1.0//EN
CALSCALE:GREGORIAN
METHOD:PUBLISH
X-WR-CALNAME:Paint &amp; Pour
X-ORIGINAL-URL:https://thepaintandpour.com
X-WR-CALDESC:Events for Paint &amp; Pour
X-WR-TIMEZONE:America/Detroit
BEGIN:VEVENT
DTSTART;VALUE=DATE-TIME:20180402T190000
DTEND;VALUE=DATE-TIME:20180402T210000.000000
DTSTAMP:20260424T150929
CREATED:20180323T164741
LAST-MODIFIED:20180323T174358
UID:383515-1522695600-@https://thepaintandpour.com
SUMMARY:Birthday Party - Tree of Life - Apr 2nd 7-9 PM
DESCRIPTION:Tree of Life  Birthday Party  PRIVATE PARTY  Come celebrate Hazel's Birthday!
LOCATION:5 S Washington St, Ypsilanti, MI, 48197, United States
URL:https://thepaintandpour.com/event/birthday-party-tree-of-life-apr-2nd-7-9-pm/
END:VEVENT
END:VCALENDAR