BEGIN:VCALENDAR
VERSION:2.0
PRODID:-//Paint &amp; Pour - ECPv2.0.11//NONSGML v1.0//EN
CALSCALE:GREGORIAN
METHOD:PUBLISH
X-WR-CALNAME:Paint &amp; Pour
X-ORIGINAL-URL:https://thepaintandpour.com
X-WR-CALDESC:Events for Paint &amp; Pour
X-WR-TIMEZONE:America/Detroit
BEGIN:VEVENT
DTSTART;VALUE=DATE-TIME:20181005T190000
DTEND;VALUE=DATE-TIME:20181005T210000.000000
DTSTAMP:20260424T192718
CREATED:20180907T173456
LAST-MODIFIED:20180926T164521
UID:401397-1538766000-@https://thepaintandpour.com
SUMMARY:Birthday Celebration - Sleepy Bear Dunes - Oct 5th 7-9 PM
DESCRIPTION:  Sleepy Bear Dunes  Birthday Celebration  PRIVATE PARTY  
LOCATION:111 South West St, Brighton, MI, 48116, United States
URL:https://thepaintandpour.com/event/birthday-celebration-sleepy-bear-dunes-oct-5th-7-9-pm/
END:VEVENT
END:VCALENDAR