BEGIN:VCALENDAR
VERSION:2.0
PRODID:-//Paint &amp; Pour - ECPv2.0.11//NONSGML v1.0//EN
CALSCALE:GREGORIAN
METHOD:PUBLISH
X-WR-CALNAME:Paint &amp; Pour
X-ORIGINAL-URL:https://thepaintandpour.com
X-WR-CALDESC:Events for Paint &amp; Pour
X-WR-TIMEZONE:America/Detroit
BEGIN:VEVENT
DTSTART;VALUE=DATE-TIME:20181107T190000
DTEND;VALUE=DATE-TIME:20181107T210000.000000
DTSTAMP:20260424T100743
CREATED:20180925T151948
LAST-MODIFIED:20181109T171938
UID:402956-1541617200-@https://thepaintandpour.com
SUMMARY:Big League Brews Paint & Pour - Sleep Hollow - Nov 7th 7-9 PM
DESCRIPTION:&nbsp;  Sleep Hollow  Big League Brews Paint &amp; Pour  PRIVATE PARTY  Big League Brews  20428 Ecorse Rd.  Taylor\, MI 48180  
LOCATION:MI, United States
URL:https://thepaintandpour.com/event/big-league-brews-paint-pour-sleep-hollow-nov-7th-7-9-pm/
END:VEVENT
END:VCALENDAR