BEGIN:VCALENDAR
VERSION:2.0
PRODID:-//Paint &amp; Pour - ECPv2.0.11//NONSGML v1.0//EN
CALSCALE:GREGORIAN
METHOD:PUBLISH
X-WR-CALNAME:Paint &amp; Pour
X-ORIGINAL-URL:https://thepaintandpour.com
X-WR-CALDESC:Events for Paint &amp; Pour
X-WR-TIMEZONE:America/Detroit
BEGIN:VEVENT
DTSTART;VALUE=DATE-TIME:20180622T190000
DTEND;VALUE=DATE-TIME:20180622T210000.000000
DTSTAMP:20260424T224121
CREATED:20180406T000302
LAST-MODIFIED:20180406T000302
UID:384528-1529694000-@https://thepaintandpour.com
SUMMARY:Bad Moon Rising - Jun 22nd 7-9 PM
DESCRIPTION:&nbsp;  Bad Moon Rising  &nbsp;
LOCATION:22000 Michigan Ave, Dearborn, MI, 48124, United States
URL:https://thepaintandpour.com/event/bad-moon-rising-jun-22nd-7-9-pm/
END:VEVENT
END:VCALENDAR