BEGIN:VCALENDAR
VERSION:2.0
PRODID:-//Paint &amp; Pour - ECPv2.0.11//NONSGML v1.0//EN
CALSCALE:GREGORIAN
METHOD:PUBLISH
X-WR-CALNAME:Paint &amp; Pour
X-ORIGINAL-URL:https://thepaintandpour.com
X-WR-CALDESC:Events for Paint &amp; Pour
X-WR-TIMEZONE:America/Detroit
BEGIN:VEVENT
DTSTART;VALUE=DATE-TIME:20181004T190000
DTEND;VALUE=DATE-TIME:20181004T210000.000000
DTSTAMP:20260423T193154
CREATED:20180813T235737
LAST-MODIFIED:20180926T164025
UID:397794-1538679600-@https://thepaintandpour.com
SUMMARY:Autumn Splendor - Oct 4th 7-9 PM
DESCRIPTION:&nbsp;  Autumn Splendor  With LAUREN!  &nbsp;
LOCATION:111 South West St, Brighton, MI, 48116, United States
URL:https://thepaintandpour.com/event/autumn-splendor-oct-4th-7-9-pm/
END:VEVENT
END:VCALENDAR