BEGIN:VCALENDAR
VERSION:2.0
PRODID:-//Paint &amp; Pour - ECPv2.0.11//NONSGML v1.0//EN
CALSCALE:GREGORIAN
METHOD:PUBLISH
X-WR-CALNAME:Paint &amp; Pour
X-ORIGINAL-URL:https://thepaintandpour.com
X-WR-CALDESC:Events for Paint &amp; Pour
X-WR-TIMEZONE:America/Detroit
BEGIN:VEVENT
DTSTART;VALUE=DATE-TIME:20181109T190000
DTEND;VALUE=DATE-TIME:20181109T210000.000000
DTSTAMP:20260423T235638
CREATED:20180907T134454
LAST-MODIFIED:20181111T203545
UID:401357-1541790000-@https://thepaintandpour.com
SUMMARY:Autumn Drive - Nov 9th 7-9 PM
DESCRIPTION:&nbsp;  Autumn Drive  With LEE!  &nbsp;
LOCATION:22000 Michigan Ave, Dearborn, MI, 48124, United States
URL:https://thepaintandpour.com/event/autumn-drive-nov-9th-7-9-pm/
END:VEVENT
END:VCALENDAR