BEGIN:VCALENDAR
VERSION:2.0
PRODID:-//Paint &amp; Pour - ECPv2.0.11//NONSGML v1.0//EN
CALSCALE:GREGORIAN
METHOD:PUBLISH
X-WR-CALNAME:Paint &amp; Pour
X-ORIGINAL-URL:https://thepaintandpour.com
X-WR-CALDESC:Events for Paint &amp; Pour
X-WR-TIMEZONE:America/Detroit
BEGIN:VEVENT
DTSTART;VALUE=DATE-TIME:20180324T190000
DTEND;VALUE=DATE-TIME:20180324T210000.000000
DTSTAMP:20260424T072659
CREATED:20180110T005733
LAST-MODIFIED:20180228T174238
UID:375315-1521918000-@https://thepaintandpour.com
SUMMARY:As the Sun Sets- Mar 24th 7-9 PM
DESCRIPTION:&nbsp;  As the Sun Sets  &nbsp;    Are YOU interested in having a private party with us?    Paint and Pour offers an incredible new way to spice up your next event. Let our Entertainer/Instructors guide your guests through an evening of art and merriment\, and they’ll be sure to talk about it for weeks! Paint and Pour private parties are great for ANY event\, so don’t hesitate.    Call us at (734) 720-9777 or Contact Us today to schedule your Paint Party!
LOCATION:10866 Cedar Lake Rd, Pinckney, MI, 48169, United States
URL:https://thepaintandpour.com/event/as-the-sun-sets-mar-24th-7-9-pm-2/
END:VEVENT
END:VCALENDAR